BEGIN:VCALENDAR
VERSION:2.0
PRODID:-//http://boulderpuppies.org//NONSGML kigkonsult.se iCalcreator 2.29
 .14//
CALSCALE:GREGORIAN
METHOD:PUBLISH
UID:85b4d28e-d34a-41ca-b88c-11816959e777
X-WR-CALNAME:JCal Pro Calendar
X-WR-CALDESC:Your online events calendar
X-WR-TIMEZONE:America/Denver
BEGIN:VTIMEZONE
TZID:America/Denver
BEGIN:STANDARD
TZNAME:MST
DTSTART:20221106T020000
TZOFFSETFROM:-0600
TZOFFSETTO:-0700
RDATE:20231105T020000
RDATE:20241103T020000
END:STANDARD
BEGIN:DAYLIGHT
TZNAME:MDT
DTSTART:20230312T020000
TZOFFSETFROM:-0700
TZOFFSETTO:-0600
RDATE:20240310T020000
RDATE:20250309T020000
END:DAYLIGHT
END:VTIMEZONE
BEGIN:VEVENT
UID:20220901T080000MDT-0358dwnwg9@http://boulderpuppies.org/
DTSTAMP:20230908T214346Z
CATEGORIES:HeartGard
DTSTART;TZID=America/Denver:20220901T080000
DTEND;TZID=America/Denver:20220901T090000
RRULE;TZID=America/Denver:FREQ=MONTHLY;COUNT=24;INTERVAL=1
SUMMARY:HeartGard & Frontline
URL:http://boulderpuppies.org/index.php/club-event-calendar/54-heartguard/1
 291-heartgard-frontline
END:VEVENT
END:VCALENDAR
