BEGIN:VCALENDAR
VERSION:2.0
PRODID:-//http://boulderpuppies.org//NONSGML kigkonsult.se iCalcreator 2.29
 .14//
CALSCALE:GREGORIAN
METHOD:PUBLISH
UID:54c1199e-ebb5-4756-9447-284491bbb60c
X-WR-CALNAME:JCal Pro Calendar
X-WR-CALDESC:Your online events calendar
X-WR-TIMEZONE:America/Denver
BEGIN:VTIMEZONE
TZID:America/Denver
BEGIN:STANDARD
TZNAME:MST
DTSTART:20221106T020000
TZOFFSETFROM:-0600
TZOFFSETTO:-0700
RDATE:20231105T020000
RDATE:20241103T020000
END:STANDARD
BEGIN:DAYLIGHT
TZNAME:MDT
DTSTART:20230312T020000
TZOFFSETFROM:-0700
TZOFFSETTO:-0600
RDATE:20240310T020000
RDATE:20250309T020000
END:DAYLIGHT
END:VTIMEZONE
BEGIN:VEVENT
UID:20231226T170000MST-9575rxlRg3@https://boulderpuppies.org/
DTSTAMP:20230908T214314Z
CATEGORIES:No Meeting
DTSTART;TZID=America/Denver:20231226T170000
DTEND;TZID=America/Denver:20231226T180000
SUMMARY:No Meeting
URL:http://boulderpuppies.org/index.php/club-event-calendar/50-no-meeting/1
 405-no-meeting
END:VEVENT
END:VCALENDAR
