BEGIN:VCALENDAR
VERSION:2.0
PRODID:-//http://boulderpuppies.org//NONSGML kigkonsult.se iCalcreator 2.29
 .14//
CALSCALE:GREGORIAN
METHOD:PUBLISH
UID:5c43800f-08a0-491d-94a4-2f36fbba3226
X-WR-CALNAME:JCal Pro Calendar
X-WR-CALDESC:Your online events calendar
X-WR-TIMEZONE:America/Denver
BEGIN:VTIMEZONE
TZID:America/Denver
BEGIN:STANDARD
TZNAME:MST
DTSTART:20221106T020000
TZOFFSETFROM:-0600
TZOFFSETTO:-0700
RDATE:20231105T020000
RDATE:20241103T020000
END:STANDARD
BEGIN:DAYLIGHT
TZNAME:MDT
DTSTART:20230312T020000
TZOFFSETFROM:-0700
TZOFFSETTO:-0600
RDATE:20240310T020000
RDATE:20250309T020000
END:DAYLIGHT
END:VTIMEZONE
BEGIN:VEVENT
UID:20231202T180000MST-4170vwEZpl@https://boulderpuppies.org/
DTSTAMP:20230908T214339Z
CATEGORIES:Outing
DTSTART;TZID=America/Denver:20231202T180000
DTEND;TZID=America/Denver:20231202T200000
SUMMARY:Boulder Lights of December Parade
URL:http://boulderpuppies.org/index.php/club-event-calendar/55-outing/1401-
 boulder-lights-of-december-parade
END:VEVENT
END:VCALENDAR
