BEGIN:VCALENDAR
VERSION:2.0
PRODID:-//http://boulderpuppies.org//NONSGML kigkonsult.se iCalcreator 2.29
 .14//
CALSCALE:GREGORIAN
METHOD:PUBLISH
UID:50326507-d827-4df7-a95c-ecb4d162a8f1
X-WR-CALNAME:JCal Pro Calendar
X-WR-CALDESC:Your online events calendar
X-WR-TIMEZONE:America/Denver
BEGIN:VTIMEZONE
TZID:America/Denver
BEGIN:STANDARD
TZNAME:MST
DTSTART:20221106T020000
TZOFFSETFROM:-0600
TZOFFSETTO:-0700
RDATE:20231105T020000
RDATE:20241103T020000
END:STANDARD
BEGIN:DAYLIGHT
TZNAME:MDT
DTSTART:20230312T020000
TZOFFSETFROM:-0700
TZOFFSETTO:-0600
RDATE:20240310T020000
RDATE:20250309T020000
END:DAYLIGHT
END:VTIMEZONE
BEGIN:VEVENT
UID:20231003T190000MDT-0925tR76PL@https://boulderpuppies.org/
DTSTAMP:20230908T214102Z
CATEGORIES:Outing
DTSTART;TZID=America/Denver:20231003T190000
DTEND;TZID=America/Denver:20231003T200000
SUMMARY:Outing - TBD
URL:http://boulderpuppies.org/index.php/club-event-calendar/55-outing/1392-
 outing-tbd
END:VEVENT
END:VCALENDAR
