BEGIN:VCALENDAR
VERSION:2.0
PRODID:-//http://boulderpuppies.org//NONSGML kigkonsult.se iCalcreator 2.29
 .14//
CALSCALE:GREGORIAN
METHOD:PUBLISH
UID:c73420d7-988d-4b30-a04a-9dc412e0ee5a
X-WR-CALNAME:JCal Pro Calendar
X-WR-CALDESC:Your online events calendar
X-WR-TIMEZONE:America/Denver
BEGIN:VTIMEZONE
TZID:America/Denver
BEGIN:STANDARD
TZNAME:MST
DTSTART:20221106T020000
TZOFFSETFROM:-0600
TZOFFSETTO:-0700
RDATE:20231105T020000
RDATE:20241103T020000
END:STANDARD
BEGIN:DAYLIGHT
TZNAME:MDT
DTSTART:20230312T020000
TZOFFSETFROM:-0700
TZOFFSETTO:-0600
RDATE:20240310T020000
RDATE:20250309T020000
END:DAYLIGHT
END:VTIMEZONE
BEGIN:VEVENT
UID:20230912T190000MDT-1074OKzuAh@https://boulderpuppies.org/
DTSTAMP:20230908T214039Z
CATEGORIES:No Meeting
DTSTART;TZID=America/Denver:20230912T190000
DTEND;TZID=America/Denver:20230912T200000
SUMMARY:No Meeting
URL:http://boulderpuppies.org/index.php/club-event-calendar/50-no-meeting/1
 387-no-meeting
END:VEVENT
BEGIN:VEVENT
UID:20230916T170000MDT-7219vovI18@https://boulderpuppies.org/
DTSTAMP:20230908T214039Z
CATEGORIES:Outing
DTSTART;TZID=America/Denver:20230916T170000
DTEND;TZID=America/Denver:20230916T180000
SUMMARY:Outing for ALL Colorado Raisers with Lauren
URL:http://boulderpuppies.org/index.php/club-event-calendar/55-outing/1388-
 outing-for-all-colorado-raisers-with-lauren
END:VEVENT
BEGIN:VEVENT
UID:20230815T190000MDT-9333Ajs4zb@https://boulderpuppies.org/
DTSTAMP:20230908T214039Z
CATEGORIES:Meeting for all
DESCRIPTION:<p><iframe style='border: 0\;' src='https://www.google.com/maps
 /embed?pb=!1m14!1m8!1m3!1d12228.73645320609!2d-105.1675846!3d39.9819907!3m
 2!1i1024!2i768!4f13.1!3m3!1m2!1s0x0%3A0xac200704694afbe!2sCalvary%20Chapel
 %20Boulder%20Valley!5e0!3m2!1sen!2sus!4v1673646184933!5m2!1sen!2sus' width
 ='600' height='450' allowfullscreen='allowfullscreen'></iframe></p>
DTSTART;TZID=America/Denver:20230919T190000
DTEND;TZID=America/Denver:20230919T200000
SUMMARY:Meeting for ALL - Calvary Chapel Boulder Valley
URL:http://boulderpuppies.org/index.php/club-event-calendar/47-meeting-for-
 all/1390-meeting-for-all-calvary-chapel-boulder-valley-2
X-ALT-DESC;FMTTYPE=TEXT/HTML:<p><iframe style='border: 0\;' src='https://ww
 w.google.com/maps/embed?pb=!1m14!1m8!1m3!1d12228.73645320609!2d-105.167584
 6!3d39.9819907!3m2!1i1024!2i768!4f13.1!3m3!1m2!1s0x0%3A0xac200704694afbe!2
 sCalvary%20Chapel%20Boulder%20Valley!5e0!3m2!1sen!2sus!4v1673646184933!5m2
 !1sen!2sus' width='600' height='450' allowfullscreen='allowfullscreen'></i
 frame></p>
END:VEVENT
BEGIN:VEVENT
UID:20230627T190000MDT-4041a8v9FN@https://boulderpuppies.org/
DTSTAMP:20230908T214039Z
CATEGORIES:Baby Puppy Meeting
DESCRIPTION:<p><iframe style='border: 0\;' src='https://www.google.com/maps
 /embed?pb=!1m14!1m8!1m3!1d12228.73645320609!2d-105.1675846!3d39.9819907!3m
 2!1i1024!2i768!4f13.1!3m3!1m2!1s0x0%3A0xac200704694afbe!2sCalvary%20Chapel
 %20Boulder%20Valley!5e0!3m2!1sen!2sus!4v1673646184933!5m2!1sen!2sus' width
 ='600' height='450' allowfullscreen='allowfullscreen'></iframe></p>
DTSTART;TZID=America/Denver:20230926T190000
DTEND;TZID=America/Denver:20230926T200000
SUMMARY:Baby Puppy Meeting - Calvary Chapel Boulder Valley - if new babies 
 arrive
URL:http://boulderpuppies.org/index.php/club-event-calendar/48-baby-puppy-m
 eeting/1391-baby-puppy-meeting-calvary-chapel-boulder-valley-2
X-ALT-DESC;FMTTYPE=TEXT/HTML:<p><iframe style='border: 0\;' src='https://ww
 w.google.com/maps/embed?pb=!1m14!1m8!1m3!1d12228.73645320609!2d-105.167584
 6!3d39.9819907!3m2!1i1024!2i768!4f13.1!3m3!1m2!1s0x0%3A0xac200704694afbe!2
 sCalvary%20Chapel%20Boulder%20Valley!5e0!3m2!1sen!2sus!4v1673646184933!5m2
 !1sen!2sus' width='600' height='450' allowfullscreen='allowfullscreen'></i
 frame></p>
END:VEVENT
END:VCALENDAR
