BEGIN:VCALENDAR
VERSION:2.0
PRODID:-//http://boulderpuppies.org//NONSGML kigkonsult.se iCalcreator 2.29
 .14//
CALSCALE:GREGORIAN
METHOD:PUBLISH
UID:95044b12-83ea-40a2-86ab-1209e1c10045
X-WR-CALNAME:JCal Pro Calendar
X-WR-CALDESC:Your online events calendar
X-WR-TIMEZONE:America/Denver
BEGIN:VTIMEZONE
TZID:America/Denver
BEGIN:STANDARD
TZNAME:MST
DTSTART:20221106T020000
TZOFFSETFROM:-0600
TZOFFSETTO:-0700
RDATE:20231105T020000
RDATE:20241103T020000
END:STANDARD
BEGIN:DAYLIGHT
TZNAME:MDT
DTSTART:20230312T020000
TZOFFSETFROM:-0700
TZOFFSETTO:-0600
RDATE:20240310T020000
RDATE:20250309T020000
END:DAYLIGHT
END:VTIMEZONE
BEGIN:VEVENT
UID:20230916T170000MDT-7219vovI18@https://boulderpuppies.org/
DTSTAMP:20230908T212558Z
CATEGORIES:Outing
DTSTART;TZID=America/Denver:20230916T170000
DTEND;TZID=America/Denver:20230916T180000
SUMMARY:Outing for ALL Colorado Raisers with Lauren
URL:http://boulderpuppies.org/index.php/club-event-calendar/55-outing/1388-
 outing-for-all-colorado-raisers-with-lauren
END:VEVENT
END:VCALENDAR
